BEGIN:VCALENDAR
VERSION:2.0
PRODID:-//Viviane et son accordéon - ECPv6.15.11//NONSGML v1.0//EN
CALSCALE:GREGORIAN
METHOD:PUBLISH
X-WR-CALNAME:Viviane et son accordéon
X-ORIGINAL-URL:http://viviane-et-son-accordeon.com
X-WR-CALDESC:Évènements pour Viviane et son accordéon
REFRESH-INTERVAL;VALUE=DURATION:PT1H
X-Robots-Tag:noindex
X-PUBLISHED-TTL:PT1H
BEGIN:VTIMEZONE
TZID:Europe/Paris
BEGIN:DAYLIGHT
TZOFFSETFROM:+0100
TZOFFSETTO:+0200
TZNAME:CEST
DTSTART:20210328T010000
END:DAYLIGHT
BEGIN:STANDARD
TZOFFSETFROM:+0200
TZOFFSETTO:+0100
TZNAME:CET
DTSTART:20211031T010000
END:STANDARD
BEGIN:DAYLIGHT
TZOFFSETFROM:+0100
TZOFFSETTO:+0200
TZNAME:CEST
DTSTART:20220327T010000
END:DAYLIGHT
BEGIN:STANDARD
TZOFFSETFROM:+0200
TZOFFSETTO:+0100
TZNAME:CET
DTSTART:20221030T010000
END:STANDARD
BEGIN:DAYLIGHT
TZOFFSETFROM:+0100
TZOFFSETTO:+0200
TZNAME:CEST
DTSTART:20230326T010000
END:DAYLIGHT
BEGIN:STANDARD
TZOFFSETFROM:+0200
TZOFFSETTO:+0100
TZNAME:CET
DTSTART:20231029T010000
END:STANDARD
END:VTIMEZONE
BEGIN:VEVENT
DTSTART;TZID=Europe/Paris:20221204T140000
DTEND;TZID=Europe/Paris:20221204T190000
DTSTAMP:20260424T163148
CREATED:20221114T175941Z
LAST-MODIFIED:20221114T175941Z
UID:2203-1670162400-1670180400@viviane-et-son-accordeon.com
SUMMARY:CERISY LA SALLE
DESCRIPTION:BAL AVEC VIVIANE ET SON ACCORDEON \nTEL 06 84 36 96 89
URL:http://viviane-et-son-accordeon.com/event/cerisy-la-salle-85/
LOCATION:cerisy la salle\, le bourg\, cerisy la salle\, 50210
END:VEVENT
BEGIN:VEVENT
DTSTART;TZID=Europe/Paris:20221206T140000
DTEND;TZID=Europe/Paris:20221206T190000
DTSTAMP:20260424T163148
CREATED:20221114T180046Z
LAST-MODIFIED:20221114T180046Z
UID:2205-1670335200-1670353200@viviane-et-son-accordeon.com
SUMMARY:NEGREVILLE
DESCRIPTION:BAL TEL 06 84 36 96 89
URL:http://viviane-et-son-accordeon.com/event/negreville-122/
LOCATION:Négreville\, Le Bourg\, Négreville\, 50260\, France
END:VEVENT
BEGIN:VEVENT
DTSTART;TZID=Europe/Paris:20221211T140000
DTEND;TZID=Europe/Paris:20221211T190000
DTSTAMP:20260424T163148
CREATED:20221114T180219Z
LAST-MODIFIED:20221114T180219Z
UID:2208-1670767200-1670785200@viviane-et-son-accordeon.com
SUMMARY:CERISY LA SALLE
DESCRIPTION:BAL AVEC VIVIANE TEL 06 84 36 96 89
URL:http://viviane-et-son-accordeon.com/event/cerisy-la-salle-86/
LOCATION:cerisy la salle\, le bourg\, cerisy la salle\, 50210
END:VEVENT
BEGIN:VEVENT
DTSTART;TZID=Europe/Paris:20221213T140000
DTEND;TZID=Europe/Paris:20221213T190000
DTSTAMP:20260424T163148
CREATED:20221114T180327Z
LAST-MODIFIED:20221114T180327Z
UID:2210-1670940000-1670958000@viviane-et-son-accordeon.com
SUMMARY:CONDE SUR VIRE
DESCRIPTION:BAL AVEC VIVIANE TEL 06 84 36 96 89
URL:http://viviane-et-son-accordeon.com/event/conde-sur-vire-71/
LOCATION:Condé sur Vire\, Place Auguste Grandin\, Condé-sur-Vire\, 50890\, France
END:VEVENT
BEGIN:VEVENT
DTSTART;TZID=Europe/Paris:20221215T140000
DTEND;TZID=Europe/Paris:20221215T190000
DTSTAMP:20260424T163148
CREATED:20221114T180427Z
LAST-MODIFIED:20221114T180427Z
UID:2212-1671112800-1671130800@viviane-et-son-accordeon.com
SUMMARY:QUETTREVILLE SUR SIENNE
DESCRIPTION:BAL RETRO TEL 06 84 36 96 89
URL:http://viviane-et-son-accordeon.com/event/quettreville-sur-sienne-53/
LOCATION:Quettreville Sur Sienne\, 30 Rue de la Roseraie\, Quettreville-sur-Sienne\, 50660 \, France
END:VEVENT
BEGIN:VEVENT
DTSTART;TZID=Europe/Paris:20221220T140000
DTEND;TZID=Europe/Paris:20221220T190000
DTSTAMP:20260424T163148
CREATED:20221114T180533Z
LAST-MODIFIED:20221114T180533Z
UID:2214-1671544800-1671562800@viviane-et-son-accordeon.com
SUMMARY:NEGREVILLE
DESCRIPTION:BAL AVEC VIVIANE TEL 06 84 36 96 89
URL:http://viviane-et-son-accordeon.com/event/negreville-123/
LOCATION:Négreville\, Le Bourg\, Négreville\, 50260\, France
END:VEVENT
BEGIN:VEVENT
DTSTART;TZID=Europe/Paris:20221227T080000
DTEND;TZID=Europe/Paris:20221227T170000
DTSTAMP:20260424T163148
CREATED:20221114T180644Z
LAST-MODIFIED:20221114T180644Z
UID:2216-1672128000-1672160400@viviane-et-son-accordeon.com
SUMMARY:NEGREVILLE
DESCRIPTION:BAL AVEC VIVIANE TEL 06 84 36 96 89
URL:http://viviane-et-son-accordeon.com/event/negreville-124/
LOCATION:Négreville\, Le Bourg\, Négreville\, 50260\, France
END:VEVENT
END:VCALENDAR