BEGIN:VCALENDAR
VERSION:2.0
PRODID:-//Viviane et son accordéon - ECPv6.15.11//NONSGML v1.0//EN
CALSCALE:GREGORIAN
METHOD:PUBLISH
X-WR-CALNAME:Viviane et son accordéon
X-ORIGINAL-URL:http://viviane-et-son-accordeon.com
X-WR-CALDESC:Évènements pour Viviane et son accordéon
REFRESH-INTERVAL;VALUE=DURATION:PT1H
X-Robots-Tag:noindex
X-PUBLISHED-TTL:PT1H
BEGIN:VTIMEZONE
TZID:Europe/Paris
BEGIN:DAYLIGHT
TZOFFSETFROM:+0100
TZOFFSETTO:+0200
TZNAME:CEST
DTSTART:20210328T010000
END:DAYLIGHT
BEGIN:STANDARD
TZOFFSETFROM:+0200
TZOFFSETTO:+0100
TZNAME:CET
DTSTART:20211031T010000
END:STANDARD
BEGIN:DAYLIGHT
TZOFFSETFROM:+0100
TZOFFSETTO:+0200
TZNAME:CEST
DTSTART:20220327T010000
END:DAYLIGHT
BEGIN:STANDARD
TZOFFSETFROM:+0200
TZOFFSETTO:+0100
TZNAME:CET
DTSTART:20221030T010000
END:STANDARD
BEGIN:DAYLIGHT
TZOFFSETFROM:+0100
TZOFFSETTO:+0200
TZNAME:CEST
DTSTART:20230326T010000
END:DAYLIGHT
BEGIN:STANDARD
TZOFFSETFROM:+0200
TZOFFSETTO:+0100
TZNAME:CET
DTSTART:20231029T010000
END:STANDARD
END:VTIMEZONE
BEGIN:VEVENT
DTSTART;TZID=Europe/Paris:20221115T140000
DTEND;TZID=Europe/Paris:20221115T190000
DTSTAMP:20260424T174546
CREATED:20221114T175019Z
LAST-MODIFIED:20221114T175030Z
UID:2192-1668520800-1668538800@viviane-et-son-accordeon.com
SUMMARY:NEGREVILLE
DESCRIPTION:BAL RETRO TEL 07 84 10 64 04 OU 06 84 36 96 89
URL:http://viviane-et-son-accordeon.com/event/negreville-120/
LOCATION:Négreville\, Le Bourg\, Négreville\, 50260\, France
END:VEVENT
BEGIN:VEVENT
DTSTART;TZID=Europe/Paris:20221117T140000
DTEND;TZID=Europe/Paris:20221117T190000
DTSTAMP:20260424T174546
CREATED:20221114T175217Z
LAST-MODIFIED:20221114T175217Z
UID:2194-1668693600-1668711600@viviane-et-son-accordeon.com
SUMMARY:QUETTREVILLE SUR SIENNE
DESCRIPTION:BAL RETRO 06 84 36 96 89 OU 07 84 10 64 04 \nVIVIANE ET SON ACCORDEON
URL:http://viviane-et-son-accordeon.com/event/quettreville-sur-sienne-52/
LOCATION:Quettreville Sur Sienne\, 30 Rue de la Roseraie\, Quettreville-sur-Sienne\, 50660 \, France
END:VEVENT
BEGIN:VEVENT
DTSTART;TZID=Europe/Paris:20221122T140000
DTEND;TZID=Europe/Paris:20221122T190000
DTSTAMP:20260424T174546
CREATED:20221114T175333Z
LAST-MODIFIED:20221114T175333Z
UID:2196-1669125600-1669143600@viviane-et-son-accordeon.com
SUMMARY:CONDE SUR VIRE
DESCRIPTION:BAL RETRO AVEC VIVIANE ET SON ACCORDEON TEL 06 84 36 96 89
URL:http://viviane-et-son-accordeon.com/event/conde-sur-vire-70/
LOCATION:Condé sur Vire\, Place Auguste Grandin\, Condé-sur-Vire\, 50890\, France
END:VEVENT
BEGIN:VEVENT
DTSTART;TZID=Europe/Paris:20221123T140000
DTEND;TZID=Europe/Paris:20221123T190000
DTSTAMP:20260424T174546
CREATED:20221114T175656Z
LAST-MODIFIED:20221114T175656Z
UID:2198-1669212000-1669230000@viviane-et-son-accordeon.com
SUMMARY:LE MESNIL AU VAL
DESCRIPTION:BAL RETRO VIVIANE ET SON ACCORDEON TEL 06 84 36 96 89 OU 07 84 10 64 04
URL:http://viviane-et-son-accordeon.com/event/le-mesnil-au-val/
LOCATION:le mesnil au val
END:VEVENT
BEGIN:VEVENT
DTSTART;TZID=Europe/Paris:20221129T140000
DTEND;TZID=Europe/Paris:20221129T190000
DTSTAMP:20260424T174546
CREATED:20221114T175822Z
LAST-MODIFIED:20221114T175822Z
UID:2201-1669730400-1669748400@viviane-et-son-accordeon.com
SUMMARY:NEGREVILLE
DESCRIPTION:BAL AVEC VIVIANE TEL 06 84 36 96 89
URL:http://viviane-et-son-accordeon.com/event/negreville-121/
LOCATION:Négreville\, Le Bourg\, Négreville\, 50260\, France
END:VEVENT
END:VCALENDAR