BEGIN:VCALENDAR
VERSION:2.0
PRODID:-//Viviane et son accordéon - ECPv6.15.11//NONSGML v1.0//EN
CALSCALE:GREGORIAN
METHOD:PUBLISH
X-ORIGINAL-URL:http://viviane-et-son-accordeon.com
X-WR-CALDESC:Évènements pour Viviane et son accordéon
REFRESH-INTERVAL;VALUE=DURATION:PT1H
X-Robots-Tag:noindex
X-PUBLISHED-TTL:PT1H
BEGIN:VTIMEZONE
TZID:Europe/Paris
BEGIN:DAYLIGHT
TZOFFSETFROM:+0100
TZOFFSETTO:+0200
TZNAME:CEST
DTSTART:20210328T010000
END:DAYLIGHT
BEGIN:STANDARD
TZOFFSETFROM:+0200
TZOFFSETTO:+0100
TZNAME:CET
DTSTART:20211031T010000
END:STANDARD
BEGIN:DAYLIGHT
TZOFFSETFROM:+0100
TZOFFSETTO:+0200
TZNAME:CEST
DTSTART:20220327T010000
END:DAYLIGHT
BEGIN:STANDARD
TZOFFSETFROM:+0200
TZOFFSETTO:+0100
TZNAME:CET
DTSTART:20221030T010000
END:STANDARD
BEGIN:DAYLIGHT
TZOFFSETFROM:+0100
TZOFFSETTO:+0200
TZNAME:CEST
DTSTART:20230326T010000
END:DAYLIGHT
BEGIN:STANDARD
TZOFFSETFROM:+0200
TZOFFSETTO:+0100
TZNAME:CET
DTSTART:20231029T010000
END:STANDARD
END:VTIMEZONE
BEGIN:VEVENT
DTSTART;TZID=Europe/Paris:20221023T140000
DTEND;TZID=Europe/Paris:20221023T190000
DTSTAMP:20260424T202537
CREATED:20221010T155840Z
LAST-MODIFIED:20221010T155840Z
UID:2186-1666533600-1666551600@viviane-et-son-accordeon.com
SUMMARY:CERISY LA SALLE
DESCRIPTION:SALLE PARQUET VIVIANE ET SON ACCORDEON \nTEL 06 84 36 96 89
URL:http://viviane-et-son-accordeon.com/event/cerisy-la-salle-84/
LOCATION:cerisy la salle\, le bourg\, cerisy la salle\, 50210
END:VEVENT
END:VCALENDAR